BEGIN:VCALENDAR
METHOD:PUBLISH
PRODID:-//Educational Networks Inc//Educational Networks Calendar//EN
VERSION:2.0
CALSCALE:GREGORIAN
X-WR-CALNAME: District-wide Calendar of Events
X-WR-TIMEZONE:US/Eastern
BEGIN:VTIMEZONE
TZID:US/East-Indiana
BEGIN:STANDARD
TZOFFSETFROM:-0500
TZOFFSETTO:-0500
DTSTART:19701025T020000
END:STANDARD
END:VTIMEZONE
BEGIN:VTIMEZONE
TZID:US/Eastern
BEGIN:STANDARD
TZOFFSETFROM:-0400
TZOFFSETTO:-0500
DTSTART:19701025T020000
RRULE:FREQ=YEARLY;BYMONTH=10;BYDAY=-1SU;UNTIL=20070311T020000
END:STANDARD
BEGIN:STANDARD
TZOFFSETFROM:-0400
TZOFFSETTO:-0500
DTSTART:20071104T020000
RRULE:FREQ=YEARLY;BYMONTH=11;BYDAY=1SU
END:STANDARD
BEGIN:DAYLIGHT
TZOFFSETFROM:-0500
TZOFFSETTO:-0400
DTSTART:19870405T020000
RRULE:FREQ=YEARLY;BYMONTH=4;BYDAY=1SU;UNTIL=20061029T020000
END:DAYLIGHT
BEGIN:DAYLIGHT
TZOFFSETFROM:-0500
TZOFFSETTO:-0400
DTSTART:20070311T020000
RRULE:FREQ=YEARLY;BYMONTH=3;BYDAY=2SU
END:DAYLIGHT
END:VTIMEZONE
BEGIN:VTIMEZONE
TZID:US/Michigan
BEGIN:STANDARD
TZOFFSETFROM:-0400
TZOFFSETTO:-0500
DTSTART:19701025T020000
RRULE:FREQ=YEARLY;BYMONTH=10;BYDAY=-1SU;UNTIL=20070311T020000
END:STANDARD
BEGIN:STANDARD
TZOFFSETFROM:-0400
TZOFFSETTO:-0500
DTSTART:20071104T020000
RRULE:FREQ=YEARLY;BYMONTH=11;BYDAY=1SU
END:STANDARD
BEGIN:DAYLIGHT
TZOFFSETFROM:-0500
TZOFFSETTO:-0400
DTSTART:19870405T020000
RRULE:FREQ=YEARLY;BYMONTH=4;BYDAY=1SU;UNTIL=20061029T020000
END:DAYLIGHT
BEGIN:DAYLIGHT
TZOFFSETFROM:-0500
TZOFFSETTO:-0400
DTSTART:20070311T020000
RRULE:FREQ=YEARLY;BYMONTH=3;BYDAY=2SU
END:DAYLIGHT
END:VTIMEZONE
BEGIN:VTIMEZONE
TZID:US/Central
BEGIN:STANDARD
TZOFFSETFROM:-0500
TZOFFSETTO:-0600
DTSTART:19701025T020000
RRULE:FREQ=YEARLY;BYMONTH=10;BYDAY=-1SU;UNTIL=20070311T020000
END:STANDARD
BEGIN:STANDARD
TZOFFSETFROM:-0500
TZOFFSETTO:-0600
DTSTART:20071104T020000
RRULE:FREQ=YEARLY;BYMONTH=11;BYDAY=1SU
END:STANDARD
BEGIN:DAYLIGHT
TZOFFSETFROM:-0600
TZOFFSETTO:-0500
DTSTART:19870405T020000
RRULE:FREQ=YEARLY;BYMONTH=4;BYDAY=1SU;UNTIL=20061029T020000
END:DAYLIGHT
BEGIN:DAYLIGHT
TZOFFSETFROM:-0600
TZOFFSETTO:-0500
DTSTART:20070311T020000
RRULE:FREQ=YEARLY;BYMONTH=3;BYDAY=2SU
END:DAYLIGHT
END:VTIMEZONE
BEGIN:VTIMEZONE
TZID:US/Mountain
BEGIN:STANDARD
TZOFFSETFROM:-0600
TZOFFSETTO:-0700
DTSTART:19701025T020000
RRULE:FREQ=YEARLY;BYMONTH=10;BYDAY=-1SU;UNTIL=20070311T020000
END:STANDARD
BEGIN:STANDARD
TZOFFSETFROM:-0600
TZOFFSETTO:-0700
DTSTART:20071104T020000
RRULE:FREQ=YEARLY;BYMONTH=11;BYDAY=1SU
END:STANDARD
BEGIN:DAYLIGHT
TZOFFSETFROM:-0700
TZOFFSETTO:-0600
DTSTART:19870405T020000
RRULE:FREQ=YEARLY;BYMONTH=4;BYDAY=1SU;UNTIL=20061029T020000
END:DAYLIGHT
BEGIN:DAYLIGHT
TZOFFSETFROM:-0700
TZOFFSETTO:-0600
DTSTART:20070311T020000
RRULE:FREQ=YEARLY;BYMONTH=3;BYDAY=2SU
END:DAYLIGHT
END:VTIMEZONE
BEGIN:VTIMEZONE
TZID:US/Arizona
BEGIN:STANDARD
TZOFFSETFROM:-0700
TZOFFSETTO:-0700
DTSTART:19701025T020000
END:STANDARD
END:VTIMEZONE
BEGIN:VTIMEZONE
TZID:US/Pacific
BEGIN:STANDARD
TZOFFSETFROM:-0700
TZOFFSETTO:-0800
DTSTART:19701025T020000
RRULE:FREQ=YEARLY;BYMONTH=10;BYDAY=-1SU;UNTIL=20070311T020000
END:STANDARD
BEGIN:STANDARD
TZOFFSETFROM:-0700
TZOFFSETTO:-0800
DTSTART:20071104T020000
RRULE:FREQ=YEARLY;BYMONTH=11;BYDAY=1SU
END:STANDARD
BEGIN:DAYLIGHT
TZOFFSETFROM:-0800
TZOFFSETTO:-0700
DTSTART:19870405T020000
RRULE:FREQ=YEARLY;BYMONTH=4;BYDAY=1SU;UNTIL=20061029T020000
END:DAYLIGHT
BEGIN:DAYLIGHT
TZOFFSETFROM:-0800
TZOFFSETTO:-0700
DTSTART:20070311T020000
RRULE:FREQ=YEARLY;BYMONTH=3;BYDAY=2SU
END:DAYLIGHT
END:VTIMEZONE
BEGIN:VTIMEZONE
TZID:US/Alaska
BEGIN:STANDARD
TZOFFSETFROM:-0800
TZOFFSETTO:-0900
DTSTART:19701025T020000
RRULE:FREQ=YEARLY;BYMONTH=10;BYDAY=-1SU;UNTIL=20070311T020000
END:STANDARD
BEGIN:STANDARD
TZOFFSETFROM:-0800
TZOFFSETTO:-0900
DTSTART:20071104T020000
RRULE:FREQ=YEARLY;BYMONTH=11;BYDAY=1SU
END:STANDARD
BEGIN:DAYLIGHT
TZOFFSETFROM:-0900
TZOFFSETTO:-0800
DTSTART:19870405T020000
RRULE:FREQ=YEARLY;BYMONTH=4;BYDAY=1SU;UNTIL=20061029T020000
END:DAYLIGHT
BEGIN:DAYLIGHT
TZOFFSETFROM:-0900
TZOFFSETTO:-0800
DTSTART:20070311T020000
RRULE:FREQ=YEARLY;BYMONTH=3;BYDAY=2SU
END:DAYLIGHT
END:VTIMEZONE
BEGIN:VTIMEZONE
TZID:US/Hawaii
BEGIN:STANDARD
TZOFFSETFROM:-1000
TZOFFSETTO:-1000
DTSTART:19701025T020000
END:STANDARD
END:VTIMEZONE
BEGIN:VTIMEZONE
TZID:US/Aleutian
BEGIN:STANDARD
TZOFFSETFROM:-1000
TZOFFSETTO:-1000
DTSTART:19701025T020000
END:STANDARD
END:VTIMEZONE
BEGIN:VTIMEZONE
TZID:US/Samoa
BEGIN:STANDARD
TZOFFSETFROM:-1100
TZOFFSETTO:-1100
DTSTART:19701025T020000
END:STANDARD
END:VTIMEZONE
BEGIN:VEVENT
DTSTAMP:20260422T092843Z
UID:5620924@www.winslow-schools.com
DTSTART;VALUE=DATE:20260409
DURATION:P1D
SUMMARY:READING GROWS HEARTS & MINDS DAY
END:VEVENT
BEGIN:VEVENT
DTSTAMP:20260422T092843Z
UID:5620925@www.winslow-schools.com
DTSTART;VALUE=DATE:20260410
DURATION:P1D
SUMMARY:ERASE SELF NEGATIVITY DAY
END:VEVENT
BEGIN:VEVENT
DTSTAMP:20260422T092843Z
UID:5621870@www.winslow-schools.com
DTSTART;VALUE=DATE:20260413
DTEND;VALUE=DATE:20260418
SUMMARY:College & Career Week
END:VEVENT
BEGIN:VEVENT
DTSTAMP:20260422T092843Z
UID:5621877@www.winslow-schools.com
DTSTART;VALUE=DATE:20260417
DURATION:P1D
SUMMARY:*Individual Spring Pictures*
END:VEVENT
BEGIN:VEVENT
DTSTAMP:20260422T092843Z
UID:5621878@www.winslow-schools.com
DTSTART;VALUE=DATE:20260420
DURATION:P1D
SUMMARY:Spring Concert 2nd & 3rd Graders 2:00PM - Students    6:00PM - Parents
END:VEVENT
BEGIN:VEVENT
DTSTAMP:20260422T092843Z
UID:5669888@www.winslow-schools.com
DTSTART;VALUE=DATE:20260420
DTEND;VALUE=DATE:20260425
SUMMARY:Book Fair
END:VEVENT
BEGIN:VEVENT
DTSTAMP:20260422T092843Z
UID:5615143@www.winslow-schools.com
DTSTART;TZID=US/Eastern:20260421T180000
DTEND;TZID=US/Eastern:20260421T190000
SUMMARY:Leo Club Poetry Contest
LOCATION:WTHS Library 
END:VEVENT
BEGIN:VEVENT
DTSTAMP:20260422T092843Z
UID:5621897@www.winslow-schools.com
DTSTART;VALUE=DATE:20260423
DURATION:P1D
SUMMARY:Color-A-Thon Students & Families    5:30PM - 7:30PM
END:VEVENT
BEGIN:VEVENT
DTSTAMP:20260422T092843Z
UID:4710581@www.winslow-schools.com
DTSTART;VALUE=DATE:20260424
DURATION:P1D
SUMMARY:Report Cards Mailing ( Grades 7-12 ) 
END:VEVENT
BEGIN:VEVENT
DTSTAMP:20260422T092843Z
UID:5669896@www.winslow-schools.com
DTSTART;VALUE=DATE:20260424
DURATION:P1D
SUMMARY:Report Cards Distributed
END:VEVENT
BEGIN:VEVENT
DTSTAMP:20260422T092843Z
UID:5669897@www.winslow-schools.com
DTSTART;VALUE=DATE:20260427
DURATION:P1D
SUMMARY:Band/Orchestra Assembly for Students only 9:30 AM
END:VEVENT
BEGIN:VEVENT
DTSTAMP:20260422T092843Z
UID:5606570@www.winslow-schools.com
DTSTART;TZID=US/Eastern:20260428T190000
DTEND;TZID=US/Eastern:20260428T200000
SUMMARY:SPRING BAND & ORCHESTRA CONCERT
LOCATION:School 5
END:VEVENT
BEGIN:VEVENT
DTSTAMP:20260422T092843Z
UID:5606554@www.winslow-schools.com
DTSTART;VALUE=DATE:20260429
DURATION:P1D
SUMMARY:SPECIAL AREA ROTATION DAY 5
END:VEVENT
BEGIN:VEVENT
DTSTAMP:20260422T092843Z
UID:5606571@www.winslow-schools.com
DTSTART;VALUE=DATE:20260429
DURATION:P1D
SUMMARY:BOE MEETING WTHS
END:VEVENT
BEGIN:VEVENT
DTSTAMP:20260422T092843Z
UID:5669899@www.winslow-schools.com
DTSTART;VALUE=DATE:20260429
DURATION:P1D
SUMMARY:BOE Meeting Middle School 7PM
END:VEVENT
BEGIN:VEVENT
DTSTAMP:20260422T092843Z
UID:4734704@www.winslow-schools.com
DTSTART;TZID=US/Eastern:20260429T090000
DTEND;TZID=US/Eastern:20260429T110000
SUMMARY:Honors Recital 
LOCATION:WTHS Auditorium 
END:VEVENT
BEGIN:VEVENT
DTSTAMP:20260422T092843Z
UID:5606438@www.winslow-schools.com
DTSTART;VALUE=DATE:20260430
DURATION:P1D
SUMMARY:SPECIAL AREA ROTATION DAY 1
END:VEVENT
BEGIN:VEVENT
DTSTAMP:20260422T092843Z
UID:5252585@www.winslow-schools.com
DTSTART;TZID=US/Eastern:20260501T154500
DTEND;TZID=US/Eastern:20260501T154500
SUMMARY:Baseball vs Cinnaminson
LOCATION:WTMS
END:VEVENT
BEGIN:VEVENT
DTSTAMP:20260422T092843Z
UID:5672496@www.winslow-schools.com
DTSTART;TZID=US/Eastern:20260501T160000
DTEND;TZID=US/Eastern:20260501T180000
SUMMARY:Track Omega Relays
LOCATION:Bridgeton HS
END:VEVENT
BEGIN:VEVENT
DTSTAMP:20260422T092843Z
UID:4900992@www.winslow-schools.com
DTSTART;TZID=US/Eastern:20260504T141800
DTEND;TZID=US/Eastern:20260504T160000
SUMMARY:After School Tutoring with Ms. DiLullo\, Ms. DeFrancisco\, or Mr. Martin
END:VEVENT
BEGIN:VEVENT
DTSTAMP:20260422T092843Z
UID:5252586@www.winslow-schools.com
DTSTART;TZID=US/Eastern:20260504T154500
DTEND;TZID=US/Eastern:20260504T154500
SUMMARY:Baseball @ Williamstown
LOCATION:Williamstown
END:VEVENT
BEGIN:VEVENT
DTSTAMP:20260422T092843Z
UID:5252602@www.winslow-schools.com
DTSTART;TZID=US/Eastern:20260504T154500
DTEND;TZID=US/Eastern:20260504T154500
SUMMARY:Softball @ Williamstown
LOCATION:Williamstown
END:VEVENT
BEGIN:VEVENT
DTSTAMP:20260422T092843Z
UID:4861920@www.winslow-schools.com
DTSTART;VALUE=DATE:20260525
DURATION:P1D
SUMMARY:Memorial Day - Schools/Offices Closed
END:VEVENT
END:VCALENDAR